BEGIN:VCALENDAR
VERSION:2.0
PRODID:-//Plone.org//NONSGML plone.app.event//EN
X-WR-TIMEZONE:Brazil/East
BEGIN:VEVENT
SUMMARY:REUNIÃO COM A EQUIPE DO VEREADOR.
DTSTART;TZID=Brazil/East;VALUE=DATE-TIME:20180413T190000
DTEND;TZID=Brazil/East;VALUE=DATE-TIME:20180413T210000
DTSTAMP;VALUE=DATE-TIME:20260425T110411Z
UID:854e261fef864eccb836965d6e4339f5@www.goiania.go.leg.br
CONTACT:VEREADOR TIÃOZINHO PORTO
CREATED;VALUE=DATE-TIME:20180409T221219Z
LAST-MODIFIED;VALUE=DATE-TIME:20180409T221226Z
LOCATION:SALA DE REUNIÃO DAS COMISSÕES
URL:https://www.goiania.go.leg.br/sala-de-imprensa/eventos/reuniao-com-a-e
 quipe-do-vereador
END:VEVENT
BEGIN:VTIMEZONE
TZID:Brazil/East
X-LIC-LOCATION:Brazil/East
BEGIN:STANDARD
DTSTART;VALUE=DATE-TIME:20180217T230000
TZNAME:BRT
TZOFFSETFROM:-0200
TZOFFSETTO:-0300
END:STANDARD
END:VTIMEZONE
END:VCALENDAR
