BEGIN:VCALENDAR
VERSION:2.0
PRODID:-//Plone.org//NONSGML plone.app.event//EN
X-WR-TIMEZONE:Brazil/East
BEGIN:VEVENT
SUMMARY:REUNIÃO COM A EQUIPE DO VEREADOR RONILSON REIS.
DTSTART;TZID=Brazil/East;VALUE=DATE-TIME:20211113T083000
DTEND;TZID=Brazil/East;VALUE=DATE-TIME:20211113T110000
DTSTAMP;VALUE=DATE-TIME:20260422T212042Z
UID:943f47d1c5bd43edb2b0393252c1d5f8@www.goiania.go.leg.br
CONTACT:VEREADOR RONILSON REIS
CREATED;VALUE=DATE-TIME:20211021T103046Z
LAST-MODIFIED;VALUE=DATE-TIME:20211021T103053Z
LOCATION:AUDITÓRIO CARLOS EURICO
URL:https://www.goiania.go.leg.br/sala-de-imprensa/eventos/reuniao-com-a-e
 quipe-do-vereador-ronilson-reis
END:VEVENT
BEGIN:VTIMEZONE
TZID:Brazil/East
X-LIC-LOCATION:Brazil/East
BEGIN:DAYLIGHT
DTSTART;VALUE=DATE-TIME:20211017T010000
TZNAME:BRST
TZOFFSETFROM:-0300
TZOFFSETTO:-0200
END:DAYLIGHT
END:VTIMEZONE
END:VCALENDAR
