BEGIN:VCALENDAR
VERSION:2.0
PRODID:-//Plone.org//NONSGML plone.app.event//EN
X-WR-TIMEZONE:Brazil/East
BEGIN:VEVENT
SUMMARY:REUNIÃO COM A EQUIPE DO VEREADOR JOÃOZINHO GUIMARÃES.
DTSTART;TZID=Brazil/East;VALUE=DATE-TIME:20240410T130000
DTEND;TZID=Brazil/East;VALUE=DATE-TIME:20240410T160000
DTSTAMP;VALUE=DATE-TIME:20260420T225125Z
UID:b2893b2401c54d4095e8c718101960a9@www.goiania.go.leg.br
CONTACT:VEREADOR JOÃOZINHO GUIMARÃES
CREATED;VALUE=DATE-TIME:20240410T140445Z
LAST-MODIFIED;VALUE=DATE-TIME:20240410T140505Z
LOCATION:SALA DE REUNIÃO DAS COMISSÕES
URL:https://www.goiania.go.leg.br/sala-de-imprensa/eventos/reuniao-com-a-e
 quipe-do-vereador-joaozinho-guimaraes
END:VEVENT
BEGIN:VTIMEZONE
TZID:Brazil/East
X-LIC-LOCATION:Brazil/East
BEGIN:STANDARD
DTSTART;VALUE=DATE-TIME:20240217T230000
TZNAME:BRT
TZOFFSETFROM:-0200
TZOFFSETTO:-0300
END:STANDARD
END:VTIMEZONE
END:VCALENDAR
