BEGIN:VCALENDAR
VERSION:2.0
PRODID:-//Plone.org//NONSGML plone.app.event//EN
X-WR-TIMEZONE:Brazil/East
BEGIN:VEVENT
SUMMARY:REUNIÃO COM A EQUIPE DO VEREADOR DR. GIAN.
DTSTART;TZID=Brazil/East;VALUE=DATE-TIME:20190627T140000
DTEND;TZID=Brazil/East;VALUE=DATE-TIME:20190627T180000
DTSTAMP;VALUE=DATE-TIME:20260424T065727Z
UID:dd25a4a3938048b3a0d9b1ed0cdf9bb1@www.goiania.go.leg.br
CONTACT:VEREADOR DR. GIAN
CREATED;VALUE=DATE-TIME:20190626T222145Z
LAST-MODIFIED;VALUE=DATE-TIME:20190626T222219Z
LOCATION:SALA DE REUNIÃO DAS COMISSÕES
URL:https://www.goiania.go.leg.br/sala-de-imprensa/eventos/reuniao-com-a-e
 quipe-do-vereador-dr-gian
END:VEVENT
BEGIN:VTIMEZONE
TZID:Brazil/East
X-LIC-LOCATION:Brazil/East
BEGIN:STANDARD
DTSTART;VALUE=DATE-TIME:20190216T230000
TZNAME:BRT
TZOFFSETFROM:-0200
TZOFFSETTO:-0300
END:STANDARD
END:VTIMEZONE
END:VCALENDAR
