BEGIN:VCALENDAR
VERSION:2.0
PRODID:-//Plone.org//NONSGML plone.app.event//EN
X-WR-TIMEZONE:Brazil/East
BEGIN:VEVENT
SUMMARY:REUNIÃO COM A EQUIPE DO GABINETE DO VEREADOR LEANDRO SENA.
DTSTART;TZID=Brazil/East;VALUE=DATE-TIME:20230703T073000
DTEND;TZID=Brazil/East;VALUE=DATE-TIME:20230703T120000
DTSTAMP;VALUE=DATE-TIME:20260425T082024Z
UID:e2dd4ca413a743eb9385ba051ec4a87c@www.goiania.go.leg.br
CONTACT:VEREADOR LEANDRO SENA
CREATED;VALUE=DATE-TIME:20230629T133552Z
LAST-MODIFIED;VALUE=DATE-TIME:20230629T133602Z
LOCATION:SALA DE REUNIÃO DAS COMISSÕES
URL:https://www.goiania.go.leg.br/sala-de-imprensa/eventos/reuniao-com-a-e
 quipe-do-gabinete-do-vereador-leandro-sena
END:VEVENT
BEGIN:VTIMEZONE
TZID:Brazil/East
X-LIC-LOCATION:Brazil/East
BEGIN:STANDARD
DTSTART;VALUE=DATE-TIME:20230225T230000
TZNAME:BRT
TZOFFSETFROM:-0200
TZOFFSETTO:-0300
END:STANDARD
END:VTIMEZONE
END:VCALENDAR
