BEGIN:VCALENDAR
VERSION:2.0
PRODID:-//Plone.org//NONSGML plone.app.event//EN
X-WR-TIMEZONE:Brazil/East
BEGIN:VEVENT
SUMMARY:REUNIÃO COM A EQUIPE DO GABINETE.
DTSTART;TZID=Brazil/East;VALUE=DATE-TIME:20230414T163000
DTEND;TZID=Brazil/East;VALUE=DATE-TIME:20230414T190000
DTSTAMP;VALUE=DATE-TIME:20260421T030153Z
UID:1c6ef768905a46c6a9b8c8255b3b31f2@www.goiania.go.leg.br
CONTACT:VEREADOR ANSELMO PEREIRA
CREATED;VALUE=DATE-TIME:20230413T144441Z
LAST-MODIFIED;VALUE=DATE-TIME:20230413T144536Z
LOCATION:SALA DE REUNIÃO DAS COMISSÕES
URL:https://www.goiania.go.leg.br/sala-de-imprensa/eventos/reuniao-com-a-e
 quipe-do-gabinete-8
END:VEVENT
BEGIN:VTIMEZONE
TZID:Brazil/East
X-LIC-LOCATION:Brazil/East
BEGIN:STANDARD
DTSTART;VALUE=DATE-TIME:20230225T230000
TZNAME:BRT
TZOFFSETFROM:-0200
TZOFFSETTO:-0300
END:STANDARD
END:VTIMEZONE
END:VCALENDAR
