BEGIN:VCALENDAR
VERSION:2.0
PRODID:-//Plone.org//NONSGML plone.app.event//EN
X-WR-TIMEZONE:Brazil/East
BEGIN:VEVENT
SUMMARY:REUNIÃO COM A EQUIPE DO GABINETE.
DTSTART;TZID=Brazil/East;VALUE=DATE-TIME:20220326T083000
DTEND;TZID=Brazil/East;VALUE=DATE-TIME:20220326T120000
DTSTAMP;VALUE=DATE-TIME:20260421T012850Z
UID:a91acaad5aec4df28c75b20e0c473cf0@www.goiania.go.leg.br
CONTACT:VEREADOR LEANDRO SENA
CREATED;VALUE=DATE-TIME:20220317T140816Z
LAST-MODIFIED;VALUE=DATE-TIME:20220317T140826Z
LOCATION:SALA DE REUNIÃO DAS COMISSÕES
URL:https://www.goiania.go.leg.br/sala-de-imprensa/eventos/reuniao-com-a-e
 quipe-do-gabinete-2
END:VEVENT
BEGIN:VTIMEZONE
TZID:Brazil/East
X-LIC-LOCATION:Brazil/East
BEGIN:STANDARD
DTSTART;VALUE=DATE-TIME:20220219T230000
TZNAME:BRT
TZOFFSETFROM:-0200
TZOFFSETTO:-0300
END:STANDARD
END:VTIMEZONE
END:VCALENDAR
