BEGIN:VCALENDAR
VERSION:2.0
PRODID:-//Plone.org//NONSGML plone.app.event//EN
X-WR-TIMEZONE:Brazil/East
BEGIN:VEVENT
SUMMARY:REUNIÃO COM A EQUIPE DO GABINETE 19.
DTSTART;TZID=Brazil/East;VALUE=DATE-TIME:20250611T100000
DTEND;TZID=Brazil/East;VALUE=DATE-TIME:20250611T140000
DTSTAMP;VALUE=DATE-TIME:20260422T070318Z
UID:93cc5e937bac4796a106d4ae33527e04@www.goiania.go.leg.br
CONTACT:VEREADORA AAVA SANTIAGO
CREATED;VALUE=DATE-TIME:20250602T122447Z
LAST-MODIFIED;VALUE=DATE-TIME:20250602T122459Z
LOCATION:SALA DE REUNIÃO DA PRESIDÊNCIA
URL:https://www.goiania.go.leg.br/sala-de-imprensa/eventos/reuniao-com-a-e
 quipe-do-gabinete-19-5
END:VEVENT
BEGIN:VTIMEZONE
TZID:Brazil/East
X-LIC-LOCATION:Brazil/East
BEGIN:STANDARD
DTSTART;VALUE=DATE-TIME:20250215T230000
TZNAME:BRT
TZOFFSETFROM:-0200
TZOFFSETTO:-0300
END:STANDARD
END:VTIMEZONE
END:VCALENDAR
