BEGIN:VCALENDAR
VERSION:2.0
PRODID:-//Plone.org//NONSGML plone.app.event//EN
X-WR-TIMEZONE:Brazil/East
BEGIN:VEVENT
SUMMARY:REUNIÃO COM A EQUIPE DO GABINETE 19.
DTSTART;TZID=Brazil/East;VALUE=DATE-TIME:20210920T093000
DTEND;TZID=Brazil/East;VALUE=DATE-TIME:20210920T110000
DTSTAMP;VALUE=DATE-TIME:20260420T050123Z
UID:1525e0b8b8ed40a1a2540e748848e3a6@www.goiania.go.leg.br
CONTACT:VEREADORA AAVA SANTIAGO
CREATED;VALUE=DATE-TIME:20210913T200730Z
LAST-MODIFIED;VALUE=DATE-TIME:20210913T200750Z
LOCATION:SALA  DE REUNIÃO DAS COMISSÕES
URL:https://www.goiania.go.leg.br/sala-de-imprensa/eventos/reuniao-com-a-e
 quipe-do-gabinete-19-1
END:VEVENT
BEGIN:VTIMEZONE
TZID:Brazil/East
X-LIC-LOCATION:Brazil/East
BEGIN:STANDARD
DTSTART;VALUE=DATE-TIME:20210220T230000
TZNAME:BRT
TZOFFSETFROM:-0200
TZOFFSETTO:-0300
END:STANDARD
END:VTIMEZONE
END:VCALENDAR
