BEGIN:VCALENDAR
VERSION:2.0
PRODID:-//Plone.org//NONSGML plone.app.event//EN
X-WR-TIMEZONE:Brazil/East
BEGIN:VEVENT
SUMMARY:REUNIÃO COM A EQUIPE DO GABINETE.
DTSTART;TZID=Brazil/East;VALUE=DATE-TIME:20220308T090000
DTEND;TZID=Brazil/East;VALUE=DATE-TIME:20220308T120000
DTSTAMP;VALUE=DATE-TIME:20260422T223548Z
UID:5ce8124c19974dd4a054afb5ba459505@www.goiania.go.leg.br
CONTACT:VEREADOR THIALU GUIOTTI
CREATED;VALUE=DATE-TIME:20220308T103557Z
LAST-MODIFIED;VALUE=DATE-TIME:20220308T103627Z
LOCATION:SALA DE REUNIÃO DA PRESIDÊNCIA
URL:https://www.goiania.go.leg.br/sala-de-imprensa/eventos/reuniao-com-a-e
 quipe-do-gabinete-1
END:VEVENT
BEGIN:VTIMEZONE
TZID:Brazil/East
X-LIC-LOCATION:Brazil/East
BEGIN:STANDARD
DTSTART;VALUE=DATE-TIME:20220219T230000
TZNAME:BRT
TZOFFSETFROM:-0200
TZOFFSETTO:-0300
END:STANDARD
END:VTIMEZONE
END:VCALENDAR
