BEGIN:VCALENDAR
VERSION:2.0
PRODID:-//Plone.org//NONSGML plone.app.event//EN
X-WR-TIMEZONE:Brazil/East
BEGIN:VEVENT
SUMMARY:REUNIÃO COM A EQUIPE DE TRABALHO.
DTSTART;TZID=Brazil/East;VALUE=DATE-TIME:20190605T160000
DTEND;TZID=Brazil/East;VALUE=DATE-TIME:20190605T180000
DTSTAMP;VALUE=DATE-TIME:20260424T094442Z
UID:de3ab751c9b142c3b4e6f5d435bed56a@www.goiania.go.leg.br
CONTACT:VEREADOR DIVINO RODRIGUES
CREATED;VALUE=DATE-TIME:20190604T101651Z
LAST-MODIFIED;VALUE=DATE-TIME:20190604T101703Z
LOCATION:SALA DE REUNIÃO DA PRESIDÊNCIA
URL:https://www.goiania.go.leg.br/sala-de-imprensa/eventos/reuniao-com-a-e
 quipe-de-trabalho
END:VEVENT
BEGIN:VTIMEZONE
TZID:Brazil/East
X-LIC-LOCATION:Brazil/East
BEGIN:STANDARD
DTSTART;VALUE=DATE-TIME:20190216T230000
TZNAME:BRT
TZOFFSETFROM:-0200
TZOFFSETTO:-0300
END:STANDARD
END:VTIMEZONE
END:VCALENDAR
