BEGIN:VCALENDAR
VERSION:2.0
PRODID:-//Plone.org//NONSGML plone.app.event//EN
X-WR-TIMEZONE:Brazil/East
BEGIN:VEVENT
SUMMARY:REUNIÃO COM A EQUIPE DA VEREADORA SABRINA GARCÊZ.
DTSTART;TZID=Brazil/East;VALUE=DATE-TIME:20190417T140000
DTEND;TZID=Brazil/East;VALUE=DATE-TIME:20190417T180000
DTSTAMP;VALUE=DATE-TIME:20260424T135705Z
UID:bbfafce3cfd246b9b9ab9a67312052af@www.goiania.go.leg.br
CONTACT:VEREADORA SABRINA GARCÊZ
CREATED;VALUE=DATE-TIME:20190417T101708Z
LAST-MODIFIED;VALUE=DATE-TIME:20190417T101715Z
LOCATION:SALA DE REUNIÃO DAS COMISSÕES
URL:https://www.goiania.go.leg.br/sala-de-imprensa/eventos/reuniao-com-a-e
 quipe-da-vereadora-sabrina-garcez
END:VEVENT
BEGIN:VTIMEZONE
TZID:Brazil/East
X-LIC-LOCATION:Brazil/East
BEGIN:STANDARD
DTSTART;VALUE=DATE-TIME:20190216T230000
TZNAME:BRT
TZOFFSETFROM:-0200
TZOFFSETTO:-0300
END:STANDARD
END:VTIMEZONE
END:VCALENDAR
