BEGIN:VCALENDAR
VERSION:2.0
PRODID:-//Plone.org//NONSGML plone.app.event//EN
X-WR-TIMEZONE:Brazil/East
BEGIN:VEVENT
SUMMARY:REUNIÃO  COM A  ASSESSORIA  PARLAMENTAR DO NOSSO MANDATO COLETIVO
 .
DTSTART;TZID=Brazil/East;VALUE=DATE-TIME:20211108T150000
DTEND;TZID=Brazil/East;VALUE=DATE-TIME:20211108T170000
DTSTAMP;VALUE=DATE-TIME:20260425T150848Z
UID:a88f3fb25ab3459489a08369b199bba3@www.goiania.go.leg.br
CONTACT:VEREADOR MAURO RUBEM
CREATED;VALUE=DATE-TIME:20211108T115557Z
LAST-MODIFIED;VALUE=DATE-TIME:20211108T115732Z
LOCATION:SALA DE REUNIÃO DA PRESIDÊNCIA
URL:https://www.goiania.go.leg.br/sala-de-imprensa/eventos/reuniao-com-a-a
 ssessoria-parlamentar-do-nosso-mandato-coletivo-1
END:VEVENT
BEGIN:VTIMEZONE
TZID:Brazil/East
X-LIC-LOCATION:Brazil/East
BEGIN:DAYLIGHT
DTSTART;VALUE=DATE-TIME:20211017T010000
TZNAME:BRST
TZOFFSETFROM:-0300
TZOFFSETTO:-0200
END:DAYLIGHT
END:VTIMEZONE
END:VCALENDAR
