BEGIN:VCALENDAR
VERSION:2.0
PRODID:-//Plone.org//NONSGML plone.app.event//EN
X-WR-TIMEZONE:Brazil/East
BEGIN:VEVENT
SUMMARY:REUNIÃO COM A ASSESSORIA DO VEREADOR.
DTSTART;TZID=Brazil/East;VALUE=DATE-TIME:20190809T110000
DTEND;TZID=Brazil/East;VALUE=DATE-TIME:20190809T124000
DTSTAMP;VALUE=DATE-TIME:20260422T092224Z
UID:3abb97358fbb4da89afc852095f9afd3@www.goiania.go.leg.br
CONTACT:VEREADOR ANSELMO PEREIRA
CREATED;VALUE=DATE-TIME:20190809T102048Z
LAST-MODIFIED;VALUE=DATE-TIME:20190809T104107Z
LOCATION:SALA DE REUNIÃO DAS COMISSÕES
URL:https://www.goiania.go.leg.br/sala-de-imprensa/eventos/reuniao-com-a-a
 ssessoria-do-vereador
END:VEVENT
BEGIN:VTIMEZONE
TZID:Brazil/East
X-LIC-LOCATION:Brazil/East
BEGIN:STANDARD
DTSTART;VALUE=DATE-TIME:20190216T230000
TZNAME:BRT
TZOFFSETFROM:-0200
TZOFFSETTO:-0300
END:STANDARD
END:VTIMEZONE
END:VCALENDAR
