BEGIN:VCALENDAR
VERSION:2.0
PRODID:-//Plone.org//NONSGML plone.app.event//EN
X-WR-TIMEZONE:Brazil/East
BEGIN:VEVENT
SUMMARY:REUNIÃO COM A ASSESSORIA DO MANDATO COLETIVO - GABINETE 13
DTSTART;TZID=Brazil/East;VALUE=DATE-TIME:20211004T143000
DTEND;TZID=Brazil/East;VALUE=DATE-TIME:20211004T170000
DTSTAMP;VALUE=DATE-TIME:20260421T042850Z
UID:b25b6fe9550c4191904e8aa6d9072cb8@www.goiania.go.leg.br
CONTACT:VEREADOR MAURO RUBEM
CREATED;VALUE=DATE-TIME:20211004T104056Z
LAST-MODIFIED;VALUE=DATE-TIME:20211004T104213Z
LOCATION:SALA DE REUNIÃO DA PRESIDÊNCIA
URL:https://www.goiania.go.leg.br/sala-de-imprensa/eventos/reuniao-com-a-a
 ssessoria-do-mandato-coletivo-gabinete-13
END:VEVENT
BEGIN:VTIMEZONE
TZID:Brazil/East
X-LIC-LOCATION:Brazil/East
BEGIN:STANDARD
DTSTART;VALUE=DATE-TIME:20210220T230000
TZNAME:BRT
TZOFFSETFROM:-0200
TZOFFSETTO:-0300
END:STANDARD
END:VTIMEZONE
END:VCALENDAR
