BEGIN:VCALENDAR
VERSION:2.0
PRODID:-//Plone.org//NONSGML plone.app.event//EN
X-WR-TIMEZONE:Brazil/East
BEGIN:VEVENT
SUMMARY:REUNIÃO COM A ASSESSORIA.
DTSTART;TZID=Brazil/East;VALUE=DATE-TIME:20181217T150000
DTEND;TZID=Brazil/East;VALUE=DATE-TIME:20181217T180000
DTSTAMP;VALUE=DATE-TIME:20260425T134032Z
UID:d4d318354df54a9d81290271c0ea460a@www.goiania.go.leg.br
CONTACT:VEREADOR ANDERSON SALES - BOKÃO
CREATED;VALUE=DATE-TIME:20180205T123023Z
LAST-MODIFIED;VALUE=DATE-TIME:20180205T123030Z
LOCATION:SALA DE REUNIÃO DAS COMISSÕES
URL:https://www.goiania.go.leg.br/sala-de-imprensa/eventos/reuniao-com-a-a
 ssessoria-9
END:VEVENT
BEGIN:VTIMEZONE
TZID:Brazil/East
X-LIC-LOCATION:Brazil/East
BEGIN:DAYLIGHT
DTSTART;VALUE=DATE-TIME:20181021T010000
TZNAME:BRST
TZOFFSETFROM:-0300
TZOFFSETTO:-0200
END:DAYLIGHT
END:VTIMEZONE
END:VCALENDAR
