BEGIN:VCALENDAR
VERSION:2.0
PRODID:-//Plone.org//NONSGML plone.app.event//EN
X-WR-TIMEZONE:Brazil/East
BEGIN:VEVENT
SUMMARY:RECITAL DO COLÉGIO ESTADUAL DEPUTADO JOSÉ LUCIANO.
DTSTART;TZID=Brazil/East;VALUE=DATE-TIME:20191216T180000
DTEND;TZID=Brazil/East;VALUE=DATE-TIME:20191216T220000
DTSTAMP;VALUE=DATE-TIME:20260421T193112Z
UID:94c0d0e6290a41b68ac895201aaa7705@www.goiania.go.leg.br
CONTACT:VEREADOR KLEYBE MORAIS
CREATED;VALUE=DATE-TIME:20191108T134459Z
LAST-MODIFIED;VALUE=DATE-TIME:20191108T134523Z
LOCATION:AUDITÓRIO JAIME CÂMARA
URL:https://www.goiania.go.leg.br/sala-de-imprensa/eventos/recital-do-cole
 gio-estadual-deputado-jose-luciano
END:VEVENT
BEGIN:VTIMEZONE
TZID:Brazil/East
X-LIC-LOCATION:Brazil/East
BEGIN:DAYLIGHT
DTSTART;VALUE=DATE-TIME:20191020T010000
TZNAME:BRST
TZOFFSETFROM:-0300
TZOFFSETTO:-0200
END:DAYLIGHT
END:VTIMEZONE
END:VCALENDAR
