BEGIN:VCALENDAR
VERSION:2.0
PRODID:-//Plone.org//NONSGML plone.app.event//EN
X-WR-TIMEZONE:Brazil/East
BEGIN:VEVENT
SUMMARY:REALIZAÇÃO DO WORKSHOP CUIDANDO DOS COMUNS\, EM PARCERIA COM A A
 GENCE FRANÇAISE DE DÉVELOPPEMENT E COM A UNIVERSIDADE  FEDERAL DE GOIÁS
 .
DTSTART;TZID=Brazil/East;VALUE=DATE-TIME:20250829T130000
DTEND;TZID=Brazil/East;VALUE=DATE-TIME:20250829T170000
DTSTAMP;VALUE=DATE-TIME:20260419T104916Z
UID:e9d14bae6c6048458f50ec4997259c45@www.goiania.go.leg.br
CONTACT:VEREADOR PROFESSOR EDWARD
CREATED;VALUE=DATE-TIME:20250815T201824Z
LAST-MODIFIED;VALUE=DATE-TIME:20250815T201841Z
LOCATION:A
URL:https://www.goiania.go.leg.br/sala-de-imprensa/eventos/realizacao-do-w
 orkshop-cuidando-dos-comuns-em-parceria-com-a-agence-francaise-de-developp
 ement-e-com-a-universidade-federal-de-goias
END:VEVENT
BEGIN:VTIMEZONE
TZID:Brazil/East
X-LIC-LOCATION:Brazil/East
BEGIN:STANDARD
DTSTART;VALUE=DATE-TIME:20250215T230000
TZNAME:BRT
TZOFFSETFROM:-0200
TZOFFSETTO:-0300
END:STANDARD
END:VTIMEZONE
END:VCALENDAR
