BEGIN:VCALENDAR
VERSION:2.0
PRODID:-//Plone.org//NONSGML plone.app.event//EN
X-WR-TIMEZONE:Brazil/East
BEGIN:VEVENT
SUMMARY:REALIZAÇÃO DO TREINAMENTO E SIMULAÇÃO DO POLITIZAR GYN.
DTSTART;TZID=Brazil/East;VALUE=DATE-TIME:20250612T080000
DTEND;TZID=Brazil/East;VALUE=DATE-TIME:20250612T180000
DTSTAMP;VALUE=DATE-TIME:20260422T035648Z
UID:5c7b0101e05d4f8fb3c972e7432654ce@www.goiania.go.leg.br
CONTACT:MILKA REZENDE
CREATED;VALUE=DATE-TIME:20250213T113402Z
LAST-MODIFIED;VALUE=DATE-TIME:20250213T113419Z
LOCATION:AUDITÓRIO CARLOS EURICO
URL:https://www.goiania.go.leg.br/sala-de-imprensa/eventos/realizacao-do-t
 reinamento-e-simulacao-do-politizar-gyn-2
END:VEVENT
BEGIN:VTIMEZONE
TZID:Brazil/East
X-LIC-LOCATION:Brazil/East
BEGIN:STANDARD
DTSTART;VALUE=DATE-TIME:20250215T230000
TZNAME:BRT
TZOFFSETFROM:-0200
TZOFFSETTO:-0300
END:STANDARD
END:VTIMEZONE
END:VCALENDAR
