BEGIN:VCALENDAR
VERSION:2.0
PRODID:-//Plone.org//NONSGML plone.app.event//EN
X-WR-TIMEZONE:Brazil/East
BEGIN:VEVENT
SUMMARY:REALIZAÇÃO DO GT EM POLÍTICAS PÚBLICAS DA CÂMARA MUNICIPAL DE
  GOIÂNIA.
DTSTART;TZID=Brazil/East;VALUE=DATE-TIME:20230424T090000
DTEND;TZID=Brazil/East;VALUE=DATE-TIME:20230424T120000
DTSTAMP;VALUE=DATE-TIME:20260422T095551Z
UID:825e859a4dc046cd90de2f211693c99c@www.goiania.go.leg.br
CONTACT:ESCOLA LEGISLATIVA
CREATED;VALUE=DATE-TIME:20230411T131256Z
LAST-MODIFIED;VALUE=DATE-TIME:20230418T121341Z
LOCATION:SALA DE REUNIÃO DA PRESIDÊNCIA
URL:https://www.goiania.go.leg.br/sala-de-imprensa/eventos/realizacao-do-g
 t-em-politicas-publicas-da-camara-municipal-de-goiania
END:VEVENT
BEGIN:VTIMEZONE
TZID:Brazil/East
X-LIC-LOCATION:Brazil/East
BEGIN:STANDARD
DTSTART;VALUE=DATE-TIME:20230225T230000
TZNAME:BRT
TZOFFSETFROM:-0200
TZOFFSETTO:-0300
END:STANDARD
END:VTIMEZONE
END:VCALENDAR
