BEGIN:VCALENDAR
VERSION:2.0
PRODID:-//Plone.org//NONSGML plone.app.event//EN
X-WR-TIMEZONE:Brazil/East
BEGIN:VEVENT
SUMMARY:REALIZAÇÃO DO EVENTO LEGISLATIVO MUNICIPAIS EM ANO ELEITORAL.
DTSTART;TZID=Brazil/East;VALUE=DATE-TIME:20240515T120000
DTEND;TZID=Brazil/East;VALUE=DATE-TIME:20240515T180000
DTSTAMP;VALUE=DATE-TIME:20260423T030659Z
UID:d0cb1cf60f8a40cd8685f03be4382326@www.goiania.go.leg.br
CONTACT:MILKA REZENDE
CREATED;VALUE=DATE-TIME:20240401T212245Z
LAST-MODIFIED;VALUE=DATE-TIME:20240401T212341Z
LOCATION:AUDITÓRIO CARLOS EURICO
URL:https://www.goiania.go.leg.br/sala-de-imprensa/eventos/realizacao-do-e
 vento-legislativo-municipais-em-ano-eleitoral
END:VEVENT
BEGIN:VTIMEZONE
TZID:Brazil/East
X-LIC-LOCATION:Brazil/East
BEGIN:STANDARD
DTSTART;VALUE=DATE-TIME:20240217T230000
TZNAME:BRT
TZOFFSETFROM:-0200
TZOFFSETTO:-0300
END:STANDARD
END:VTIMEZONE
END:VCALENDAR
