BEGIN:VCALENDAR
VERSION:2.0
PRODID:-//Plone.org//NONSGML plone.app.event//EN
X-WR-TIMEZONE:Brazil/East
BEGIN:VEVENT
SUMMARY:REALIZAÇÃO DO ENCONTRO DEVOCIONAL SEMANAL.
DTSTART;TZID=Brazil/East;VALUE=DATE-TIME:20180515T080000
DTEND;TZID=Brazil/East;VALUE=DATE-TIME:20180515T084000
DTSTAMP;VALUE=DATE-TIME:20260423T155110Z
UID:2fe40ad2ea8d43cfa00fc074a5c50fac@www.goiania.go.leg.br
CONTACT:VEREADORA LÉIA KLEBIA
CREATED;VALUE=DATE-TIME:20180411T220718Z
LAST-MODIFIED;VALUE=DATE-TIME:20180411T220724Z
LOCATION:AUDITÓRIO CARLOS EURICO
URL:https://www.goiania.go.leg.br/sala-de-imprensa/eventos/realizacao-do-e
 ncontro-devocional-semanal-4
END:VEVENT
BEGIN:VTIMEZONE
TZID:Brazil/East
X-LIC-LOCATION:Brazil/East
BEGIN:STANDARD
DTSTART;VALUE=DATE-TIME:20180217T230000
TZNAME:BRT
TZOFFSETFROM:-0200
TZOFFSETTO:-0300
END:STANDARD
END:VTIMEZONE
END:VCALENDAR
