BEGIN:VCALENDAR
VERSION:2.0
PRODID:-//Plone.org//NONSGML plone.app.event//EN
X-WR-TIMEZONE:Brazil/East
BEGIN:VEVENT
SUMMARY:REALIZAÇÃO DE UMA PLENÁRIA JURÍDICA E ADMINISTRATIVA.
DTSTART;TZID=Brazil/East;VALUE=DATE-TIME:20170818T190000
DTEND;TZID=Brazil/East;VALUE=DATE-TIME:20170818T220000
DTSTAMP;VALUE=DATE-TIME:20260423T142958Z
UID:915581a0f4e44f8385ac0cba09cc4cfa@www.goiania.go.leg.br
CONTACT:VEREADOR PAULINHO GRAUS
CREATED;VALUE=DATE-TIME:20171208T111313Z
LAST-MODIFIED;VALUE=DATE-TIME:20171208T112938Z
LOCATION:AUDITÓRIO CARLOS EURICO
URL:https://www.goiania.go.leg.br/sala-de-imprensa/eventos/realizacao-de-u
 ma-plenaria-juridica-e-administrativa
END:VEVENT
BEGIN:VTIMEZONE
TZID:Brazil/East
X-LIC-LOCATION:Brazil/East
BEGIN:STANDARD
DTSTART;VALUE=DATE-TIME:20170218T230000
TZNAME:BRT
TZOFFSETFROM:-0200
TZOFFSETTO:-0300
END:STANDARD
END:VTIMEZONE
END:VCALENDAR
