BEGIN:VCALENDAR
VERSION:2.0
PRODID:-//Plone.org//NONSGML plone.app.event//EN
X-WR-TIMEZONE:Brazil/East
BEGIN:VEVENT
SUMMARY:REALIZAÇÃO DE UMA PALESTRA.
DTSTART;TZID=Brazil/East;VALUE=DATE-TIME:20191006T120000
DTEND;TZID=Brazil/East;VALUE=DATE-TIME:20191006T180000
DTSTAMP;VALUE=DATE-TIME:20260424T065900Z
UID:61c241d449a94a7e9db2a052e30e103c@www.goiania.go.leg.br
CONTACT:VEREADOR LUCAS KITÃO
CREATED;VALUE=DATE-TIME:20190917T214441Z
LAST-MODIFIED;VALUE=DATE-TIME:20190917T214450Z
LOCATION:AUDITÓRIO JAIME CÂMARA
URL:https://www.goiania.go.leg.br/sala-de-imprensa/eventos/realizacao-de-u
 ma-palestra
END:VEVENT
BEGIN:VTIMEZONE
TZID:Brazil/East
X-LIC-LOCATION:Brazil/East
BEGIN:STANDARD
DTSTART;VALUE=DATE-TIME:20190216T230000
TZNAME:BRT
TZOFFSETFROM:-0200
TZOFFSETTO:-0300
END:STANDARD
END:VTIMEZONE
END:VCALENDAR
