BEGIN:VCALENDAR
VERSION:2.0
PRODID:-//Plone.org//NONSGML plone.app.event//EN
X-WR-TIMEZONE:Brazil/East
BEGIN:VEVENT
SUMMARY:REALIZAÇÃO DE UMA OLIMPÍADA ESCOLAR - FORMULA 1 IN SCHOOLS.
DTSTART;TZID=Brazil/East;VALUE=DATE-TIME:20230317T183000
DTEND;TZID=Brazil/East;VALUE=DATE-TIME:20230317T220000
DTSTAMP;VALUE=DATE-TIME:20260423T142958Z
UID:c66da6d8893d4371a6bd12d50ba2f58e@www.goiania.go.leg.br
CONTACT:VEREADOR LUCAS KITÃO
CREATED;VALUE=DATE-TIME:20230317T114612Z
LAST-MODIFIED;VALUE=DATE-TIME:20230317T114618Z
LOCATION:AUDITÓRIO CARLOS EURICO
URL:https://www.goiania.go.leg.br/sala-de-imprensa/eventos/realizacao-de-u
 ma-olimpiada-escolar-formula-1-in-schools
END:VEVENT
BEGIN:VTIMEZONE
TZID:Brazil/East
X-LIC-LOCATION:Brazil/East
BEGIN:STANDARD
DTSTART;VALUE=DATE-TIME:20230225T230000
TZNAME:BRT
TZOFFSETFROM:-0200
TZOFFSETTO:-0300
END:STANDARD
END:VTIMEZONE
END:VCALENDAR
