BEGIN:VCALENDAR
VERSION:2.0
PRODID:-//Plone.org//NONSGML plone.app.event//EN
X-WR-TIMEZONE:Brazil/East
BEGIN:VEVENT
SUMMARY:REALIZAÇÃO DE UMA AÇÃO COM ESTUDANTES DE COLÉGIOS PÚBLICOS. 
 NESTA DATA É CELEBRADO O DIA INTERNACIONAL DA ELIMINAÇÃO DA VIOLÊNCIA 
 CONTRA AS MULHERES.
DTSTART;TZID=Brazil/East;VALUE=DATE-TIME:20221125T130000
DTEND;TZID=Brazil/East;VALUE=DATE-TIME:20221125T170000
DTSTAMP;VALUE=DATE-TIME:20260423T001900Z
UID:a475e3e27d8d4ea092155f39ac2790a6@www.goiania.go.leg.br
CONTACT:MARIA CLARA DUNCK
CREATED;VALUE=DATE-TIME:20221104T121728Z
LAST-MODIFIED;VALUE=DATE-TIME:20221104T121748Z
LOCATION:AUDITÓRIO CARLOS EURICO
URL:https://www.goiania.go.leg.br/sala-de-imprensa/eventos/realizacao-de-u
 ma-acao-com-estudantes-de-colegios-publicos-nesta-data-e-celebrado-o-dia-i
 nternacional-da-eliminacao-da-violencia-contra-as-mulheres
END:VEVENT
BEGIN:VTIMEZONE
TZID:Brazil/East
X-LIC-LOCATION:Brazil/East
BEGIN:DAYLIGHT
DTSTART;VALUE=DATE-TIME:20221016T010000
TZNAME:BRST
TZOFFSETFROM:-0300
TZOFFSETTO:-0200
END:DAYLIGHT
END:VTIMEZONE
END:VCALENDAR
