BEGIN:VCALENDAR
VERSION:2.0
PRODID:-//Plone.org//NONSGML plone.app.event//EN
X-WR-TIMEZONE:Brazil/East
BEGIN:VEVENT
SUMMARY:REALIZAÇÃO DE UM VÍDEO A SER REALIZADO PELA EQUIPE DO VEREADOR 
 THIALU GUIOTTI.
DTSTART;TZID=Brazil/East;VALUE=DATE-TIME:20241230T180000
DTEND;TZID=Brazil/East;VALUE=DATE-TIME:20241230T220000
DTSTAMP;VALUE=DATE-TIME:20260423T131515Z
UID:003eee4ef75d4f4899072aebfc58c44e@www.goiania.go.leg.br
CONTACT:VEREADOR THIALU GUIOTTI
CREATED;VALUE=DATE-TIME:20241230T151950Z
LAST-MODIFIED;VALUE=DATE-TIME:20241230T152136Z
LOCATION:PLENÁRIO TRAJANO GUIMARÃES
URL:https://www.goiania.go.leg.br/sala-de-imprensa/eventos/realizacao-de-u
 m-video-a-ser-realizado-pela-equipe-do-vereador-thialu-guiotti
END:VEVENT
BEGIN:VTIMEZONE
TZID:Brazil/East
X-LIC-LOCATION:Brazil/East
BEGIN:DAYLIGHT
DTSTART;VALUE=DATE-TIME:20241020T010000
TZNAME:BRST
TZOFFSETFROM:-0300
TZOFFSETTO:-0200
END:DAYLIGHT
END:VTIMEZONE
END:VCALENDAR
