BEGIN:VCALENDAR
VERSION:2.0
PRODID:-//Plone.org//NONSGML plone.app.event//EN
X-WR-TIMEZONE:Brazil/East
BEGIN:VEVENT
SUMMARY:REALIZAÇÃO DE UM EVENTO PROMOVIDO PELO COLETIVO DAS MULHERES DA 
 CULTURA.
DTSTART;TZID=Brazil/East;VALUE=DATE-TIME:20240308T080000
DTEND;TZID=Brazil/East;VALUE=DATE-TIME:20240308T160000
DTSTAMP;VALUE=DATE-TIME:20260420T144501Z
UID:c5cd222e48fa4337bb2172eb21c6010c@www.goiania.go.leg.br
CONTACT:VEREADORA KATIA
CREATED;VALUE=DATE-TIME:20240221T213649Z
LAST-MODIFIED;VALUE=DATE-TIME:20240221T213702Z
LOCATION:AUDITÓRIO CARLOS EURICO
URL:https://www.goiania.go.leg.br/sala-de-imprensa/eventos/realizacao-de-u
 m-evento-promovido-pelo-coletivo-das-mulheres-da-cultura
END:VEVENT
BEGIN:VTIMEZONE
TZID:Brazil/East
X-LIC-LOCATION:Brazil/East
BEGIN:STANDARD
DTSTART;VALUE=DATE-TIME:20240217T230000
TZNAME:BRT
TZOFFSETFROM:-0200
TZOFFSETTO:-0300
END:STANDARD
END:VTIMEZONE
END:VCALENDAR
