BEGIN:VCALENDAR
VERSION:2.0
PRODID:-//Plone.org//NONSGML plone.app.event//EN
X-WR-TIMEZONE:Brazil/East
BEGIN:VEVENT
SUMMARY:REALIZAÇÃO DE UM CURSO ELO SOCIAL E POSSE.
DTSTART;TZID=Brazil/East;VALUE=DATE-TIME:20180310T080000
DTEND;TZID=Brazil/East;VALUE=DATE-TIME:20180310T180000
DTSTAMP;VALUE=DATE-TIME:20260423T131205Z
UID:0d3f958cace445d28e4027687b9e8ca2@www.goiania.go.leg.br
CONTACT:VEREADOR VINICIUS CIRQUEIRA
CREATED;VALUE=DATE-TIME:20180216T102921Z
LAST-MODIFIED;VALUE=DATE-TIME:20180216T102930Z
LOCATION:AUDITÓRIO JAIME CÂMARA
URL:https://www.goiania.go.leg.br/sala-de-imprensa/eventos/realizacao-de-u
 m-curso-elo-social-e-posse
END:VEVENT
BEGIN:VTIMEZONE
TZID:Brazil/East
X-LIC-LOCATION:Brazil/East
BEGIN:STANDARD
DTSTART;VALUE=DATE-TIME:20180217T230000
TZNAME:BRT
TZOFFSETFROM:-0200
TZOFFSETTO:-0300
END:STANDARD
END:VTIMEZONE
END:VCALENDAR
