BEGIN:VCALENDAR
VERSION:2.0
PRODID:-//Plone.org//NONSGML plone.app.event//EN
X-WR-TIMEZONE:Brazil/East
BEGIN:VEVENT
SUMMARY:REALIZAÇÃO DE UM BAZAR BENEFICIENTE.
DTSTART;TZID=Brazil/East;VALUE=DATE-TIME:20220518T090000
DTEND;TZID=Brazil/East;VALUE=DATE-TIME:20220518T170000
DTSTAMP;VALUE=DATE-TIME:20260423T043252Z
UID:66f396d50b7a4b56bb854ba027296667@www.goiania.go.leg.br
CONTACT:VEREADORA LUCIULA DO RECANTO
CREATED;VALUE=DATE-TIME:20220503T111835Z
LAST-MODIFIED;VALUE=DATE-TIME:20220503T111939Z
LOCATION:HALL DE ENTRADA DESTA CASA DE LEIS
URL:https://www.goiania.go.leg.br/sala-de-imprensa/eventos/realizacao-de-u
 m-bazar-beneficiente
END:VEVENT
BEGIN:VTIMEZONE
TZID:Brazil/East
X-LIC-LOCATION:Brazil/East
BEGIN:STANDARD
DTSTART;VALUE=DATE-TIME:20220219T230000
TZNAME:BRT
TZOFFSETFROM:-0200
TZOFFSETTO:-0300
END:STANDARD
END:VTIMEZONE
END:VCALENDAR
