BEGIN:VCALENDAR
VERSION:2.0
PRODID:-//Plone.org//NONSGML plone.app.event//EN
X-WR-TIMEZONE:Brazil/East
BEGIN:VEVENT
SUMMARY:REALIZAÇÃO DE UM BATE-PAPO ENTRE ESTUDANTES DE DIREITO DA FACUNI
 CAMPS E DA SUP/FGV E UM PROCURADOR DESTA CASA DE LEIS\, SOBRE O PODER LEGI
 SLATIVO MUNICIPAL.
DTSTART;TZID=Brazil/East;VALUE=DATE-TIME:20240515T100000
DTEND;TZID=Brazil/East;VALUE=DATE-TIME:20240515T120000
DTSTAMP;VALUE=DATE-TIME:20260423T030738Z
UID:2aaa8374b5f9462581309499d075813e@www.goiania.go.leg.br
CONTACT:MILKA REZENDE
CREATED;VALUE=DATE-TIME:20240401T212641Z
LAST-MODIFIED;VALUE=DATE-TIME:20240401T212716Z
LOCATION:SALA DE REUNIÃO DA PRESIDÊNCIA
URL:https://www.goiania.go.leg.br/sala-de-imprensa/eventos/realizacao-de-u
 m-bate-papo-entre-estudantes-de-direito-da-facunicamps-e-da-sup-fgv-e-um-p
 rocurador-desta-casa-de-leis-sobre-o-poder-legislativo-municipal-1
END:VEVENT
BEGIN:VTIMEZONE
TZID:Brazil/East
X-LIC-LOCATION:Brazil/East
BEGIN:STANDARD
DTSTART;VALUE=DATE-TIME:20240217T230000
TZNAME:BRT
TZOFFSETFROM:-0200
TZOFFSETTO:-0300
END:STANDARD
END:VTIMEZONE
END:VCALENDAR
