BEGIN:VCALENDAR
VERSION:2.0
PRODID:-//Plone.org//NONSGML plone.app.event//EN
X-WR-TIMEZONE:Brazil/East
BEGIN:VEVENT
SUMMARY:REALIZAÇÃO DE TREINAMENTO MARÇO ROXO.
DTSTART;TZID=Brazil/East;VALUE=DATE-TIME:20230323T140000
DTEND;TZID=Brazil/East;VALUE=DATE-TIME:20230323T160000
DTSTAMP;VALUE=DATE-TIME:20260421T083940Z
UID:348e148bbe37432f85e52d3db7556874@www.goiania.go.leg.br
CONTACT:MILKA REZENDE
CREATED;VALUE=DATE-TIME:20230323T144742Z
LAST-MODIFIED;VALUE=DATE-TIME:20230323T144750Z
LOCATION:AUDITÓRIO CARLOS EURICO
URL:https://www.goiania.go.leg.br/sala-de-imprensa/eventos/realizacao-de-t
 reinamento-marco-roxo
END:VEVENT
BEGIN:VTIMEZONE
TZID:Brazil/East
X-LIC-LOCATION:Brazil/East
BEGIN:STANDARD
DTSTART;VALUE=DATE-TIME:20230225T230000
TZNAME:BRT
TZOFFSETFROM:-0200
TZOFFSETTO:-0300
END:STANDARD
END:VTIMEZONE
END:VCALENDAR
