BEGIN:VCALENDAR
VERSION:2.0
PRODID:-//Plone.org//NONSGML plone.app.event//EN
X-WR-TIMEZONE:Brazil/East
BEGIN:VEVENT
SUMMARY:REALIZAÇÃO DE  SUA REUNIÃO INAUGURAL\, DA COMISSÃO DE ESPORTE 
 \, LAZER E TURISMO.
DTSTART;TZID=Brazil/East;VALUE=DATE-TIME:20250327T080000
DTEND;TZID=Brazil/East;VALUE=DATE-TIME:20250327T090000
DTSTAMP;VALUE=DATE-TIME:20260419T105821Z
UID:62327c794e1c4ca2b059b2766d4bab8a@www.goiania.go.leg.br
CONTACT:VEREADOR SANCHES DA FEDERAL
CREATED;VALUE=DATE-TIME:20250325T153133Z
LAST-MODIFIED;VALUE=DATE-TIME:20250325T153227Z
LOCATION:SALA DE REUNIÃO DAS COMISSÕES
URL:https://www.goiania.go.leg.br/sala-de-imprensa/eventos/realizacao-de-s
 ua-reuniao-inaugural-da-comissao-de-esporte-lazer-e-turismo
END:VEVENT
BEGIN:VTIMEZONE
TZID:Brazil/East
X-LIC-LOCATION:Brazil/East
BEGIN:STANDARD
DTSTART;VALUE=DATE-TIME:20250215T230000
TZNAME:BRT
TZOFFSETFROM:-0200
TZOFFSETTO:-0300
END:STANDARD
END:VTIMEZONE
END:VCALENDAR
