BEGIN:VCALENDAR
VERSION:2.0
PRODID:-//Plone.org//NONSGML plone.app.event//EN
X-WR-TIMEZONE:Brazil/East
BEGIN:VEVENT
SUMMARY:REALIZAÇÃO DE OFICINA EM PARCEIRA COM A PREFEITURA E O COMITÊ E
 XECUTIVO DE PLANO DE DESENVOLVIMENTO INTEGRADO DA REGIÃO METROPOLITANA DE
  GOIÂNIA. - (CODEMETRO)
DTSTART;TZID=Brazil/East;VALUE=DATE-TIME:20170831T080000
DTEND;TZID=Brazil/East;VALUE=DATE-TIME:20170831T180000
DTSTAMP;VALUE=DATE-TIME:20260423T131515Z
UID:df25b52addd94da789b19126a586893c@www.goiania.go.leg.br
CONTACT:VEREADOR ANDREY AZEREDO
CREATED;VALUE=DATE-TIME:20171208T111313Z
LAST-MODIFIED;VALUE=DATE-TIME:20171208T112938Z
LOCATION:AUDITÓRIO JAIME CÂMARA
URL:https://www.goiania.go.leg.br/sala-de-imprensa/eventos/realizacao-de-o
 ficina-em-parceira-com-a-prefeitura-e-o-comite-executivo-de-plano-de-desen
 volvimento-integrado-da-regiao-metropolitana-de-goiania-codemetro-1
END:VEVENT
BEGIN:VTIMEZONE
TZID:Brazil/East
X-LIC-LOCATION:Brazil/East
BEGIN:STANDARD
DTSTART;VALUE=DATE-TIME:20170218T230000
TZNAME:BRT
TZOFFSETFROM:-0200
TZOFFSETTO:-0300
END:STANDARD
END:VTIMEZONE
END:VCALENDAR
