BEGIN:VCALENDAR
VERSION:2.0
PRODID:-//Plone.org//NONSGML plone.app.event//EN
X-WR-TIMEZONE:Brazil/East
BEGIN:VEVENT
SUMMARY:REALIZAÇÃO DA VOTAÇÃO TEMÁTICA DO PROJETO POLITIZAR GYN.
DTSTART;TZID=Brazil/East;VALUE=DATE-TIME:20230623T080000
DTEND;TZID=Brazil/East;VALUE=DATE-TIME:20230623T160000
DTSTAMP;VALUE=DATE-TIME:20260421T080844Z
UID:c8b46afa76dc49448717d10685cb57f7@www.goiania.go.leg.br
CONTACT:MILKA REZENDE
CREATED;VALUE=DATE-TIME:20230207T133044Z
LAST-MODIFIED;VALUE=DATE-TIME:20230208T104303Z
LOCATION:SALA DE REUNIÃO DAS COMISSÕES
URL:https://www.goiania.go.leg.br/sala-de-imprensa/eventos/realizacao-da-v
 otacao-tematica-do-projeto-politizar-gyn-1
END:VEVENT
BEGIN:VTIMEZONE
TZID:Brazil/East
X-LIC-LOCATION:Brazil/East
BEGIN:STANDARD
DTSTART;VALUE=DATE-TIME:20230225T230000
TZNAME:BRT
TZOFFSETFROM:-0200
TZOFFSETTO:-0300
END:STANDARD
END:VTIMEZONE
END:VCALENDAR
