BEGIN:VCALENDAR
VERSION:2.0
PRODID:-//Plone.org//NONSGML plone.app.event//EN
X-WR-TIMEZONE:Brazil/East
BEGIN:VEVENT
SUMMARY:REALIZAÇÃO DA VOTAÇÃO DE COMISSÃO TEMÁTICA DO PROJETO POLITI
 ZAR GYN - 2026.
DTSTART;TZID=Brazil/East;VALUE=DATE-TIME:20260611T080000
DTEND;TZID=Brazil/East;VALUE=DATE-TIME:20260611T180000
DTSTAMP;VALUE=DATE-TIME:20260421T054107Z
UID:b66bee97a49143e186b45d124c48aa86@www.goiania.go.leg.br
CONTACT:COORDENAÇÃO DA ESCOLA LEGISLATIVA
CREATED;VALUE=DATE-TIME:20260210T133540Z
LAST-MODIFIED;VALUE=DATE-TIME:20260210T133557Z
LOCATION:SALA DE REUNIÕES  FÁBIO CAIXETA
URL:https://www.goiania.go.leg.br/sala-de-imprensa/eventos/realizacao-da-v
 otacao-de-comissao-tematica-do-projeto-politizar-gyn-2026-4
END:VEVENT
BEGIN:VTIMEZONE
TZID:Brazil/East
X-LIC-LOCATION:Brazil/East
BEGIN:STANDARD
DTSTART;VALUE=DATE-TIME:20260221T230000
TZNAME:BRT
TZOFFSETFROM:-0200
TZOFFSETTO:-0300
END:STANDARD
END:VTIMEZONE
END:VCALENDAR
