BEGIN:VCALENDAR
VERSION:2.0
PRODID:-//Plone.org//NONSGML plone.app.event//EN
X-WR-TIMEZONE:Brazil/East
BEGIN:VEVENT
SUMMARY:REALIZAÇÃO DA SINMULAÇÃO DO POLITIZAR GYN - 2026.
DTSTART;TZID=Brazil/East;VALUE=DATE-TIME:20260611T080000
DTEND;TZID=Brazil/East;VALUE=DATE-TIME:20260612T180000
DTSTAMP;VALUE=DATE-TIME:20260422T154538Z
UID:9575546c7c3c4814b46a1a9f762f0608@www.goiania.go.leg.br
CONTACT:COORDENAÇÃO DA ESCOLA LEGISLATIVA
CREATED;VALUE=DATE-TIME:20260210T132653Z
LAST-MODIFIED;VALUE=DATE-TIME:20260210T132723Z
LOCATION:AUDITÓRIO JAIME CÂMARA
URL:https://www.goiania.go.leg.br/sala-de-imprensa/eventos/realizacao-da-s
 inmulacao-do-politizar-gyn-2026
END:VEVENT
BEGIN:VTIMEZONE
TZID:Brazil/East
X-LIC-LOCATION:Brazil/East
BEGIN:STANDARD
DTSTART;VALUE=DATE-TIME:20260221T230000
TZNAME:BRT
TZOFFSETFROM:-0200
TZOFFSETTO:-0300
END:STANDARD
END:VTIMEZONE
END:VCALENDAR
