BEGIN:VCALENDAR
VERSION:2.0
PRODID:-//Plone.org//NONSGML plone.app.event//EN
X-WR-TIMEZONE:Brazil/East
BEGIN:VEVENT
SUMMARY:REALIZAÇÃO DA SIMULAÇÃO DO POLITIZAR GYN.
DTSTART;TZID=Brazil/East;VALUE=DATE-TIME:20240620T080000
DTEND;TZID=Brazil/East;VALUE=DATE-TIME:20240620T180000
DTSTAMP;VALUE=DATE-TIME:20260420T041547Z
UID:76ab696f2fb3400ea7e491ee778b74d7@www.goiania.go.leg.br
CONTACT:MILKA REZENDE
CREATED;VALUE=DATE-TIME:20240205T215649Z
LAST-MODIFIED;VALUE=DATE-TIME:20240205T215657Z
LOCATION:AUDITÓRIO CARLOS EURICO
URL:https://www.goiania.go.leg.br/sala-de-imprensa/eventos/realizacao-da-s
 imulacao-do-politizar-gyn
END:VEVENT
BEGIN:VTIMEZONE
TZID:Brazil/East
X-LIC-LOCATION:Brazil/East
BEGIN:STANDARD
DTSTART;VALUE=DATE-TIME:20240217T230000
TZNAME:BRT
TZOFFSETFROM:-0200
TZOFFSETTO:-0300
END:STANDARD
END:VTIMEZONE
END:VCALENDAR
