BEGIN:VCALENDAR
VERSION:2.0
PRODID:-//Plone.org//NONSGML plone.app.event//EN
X-WR-TIMEZONE:Brazil/East
BEGIN:VEVENT
SUMMARY:REALIZAÇÃO DA SIMULAÇÃO DO POLITIZAR GYN.
DTSTART;TZID=Brazil/East;VALUE=DATE-TIME:20240621T080000
DTEND;TZID=Brazil/East;VALUE=DATE-TIME:20240621T180000
DTSTAMP;VALUE=DATE-TIME:20260423T055026Z
UID:ebc9ddd488914089a519f098dae6c44c@www.goiania.go.leg.br
CONTACT:MILKA REZENDE
CREATED;VALUE=DATE-TIME:20240205T215735Z
LAST-MODIFIED;VALUE=DATE-TIME:20240205T215745Z
LOCATION:AUDITÓRIO CARLOS EURICO
URL:https://www.goiania.go.leg.br/sala-de-imprensa/eventos/realizacao-da-s
 imulacao-do-politizar-gyn-1
END:VEVENT
BEGIN:VTIMEZONE
TZID:Brazil/East
X-LIC-LOCATION:Brazil/East
BEGIN:STANDARD
DTSTART;VALUE=DATE-TIME:20240217T230000
TZNAME:BRT
TZOFFSETFROM:-0200
TZOFFSETTO:-0300
END:STANDARD
END:VTIMEZONE
END:VCALENDAR
