BEGIN:VCALENDAR
VERSION:2.0
PRODID:-//Plone.org//NONSGML plone.app.event//EN
X-WR-TIMEZONE:Brazil/East
BEGIN:VEVENT
SUMMARY:REALIZAÇÃO DA PRIMEIRA ACLAMAÇÃO DE MISS E MISTER 2024 NA CIDA
 DE.
DTSTART;TZID=Brazil/East;VALUE=DATE-TIME:20240613T193000
DTEND;TZID=Brazil/East;VALUE=DATE-TIME:20240613T220000
DTSTAMP;VALUE=DATE-TIME:20260419T120746Z
UID:cff32562a86d47d097dd20cfd33b8cc4@www.goiania.go.leg.br
CONTACT:VEREADOR ANSELMO PEREIRA
CREATED;VALUE=DATE-TIME:20240514T141325Z
LAST-MODIFIED;VALUE=DATE-TIME:20240514T141340Z
LOCATION:AUDITÓRIO CARLOS EURICO
URL:https://www.goiania.go.leg.br/sala-de-imprensa/eventos/realizacao-da-p
 rimeira-aclamacao-de-miss-e-mister-2024-na-cidade
END:VEVENT
BEGIN:VTIMEZONE
TZID:Brazil/East
X-LIC-LOCATION:Brazil/East
BEGIN:STANDARD
DTSTART;VALUE=DATE-TIME:20240217T230000
TZNAME:BRT
TZOFFSETFROM:-0200
TZOFFSETTO:-0300
END:STANDARD
END:VTIMEZONE
END:VCALENDAR
