BEGIN:VCALENDAR
VERSION:2.0
PRODID:-//Plone.org//NONSGML plone.app.event//EN
X-WR-TIMEZONE:Brazil/East
BEGIN:VEVENT
SUMMARY:REALIZAÇÃO DA FEIRA "BRECHÓ - CABIDE ROSA".
DTSTART;TZID=Brazil/East;VALUE=DATE-TIME:20240423T080000
DTEND;TZID=Brazil/East;VALUE=DATE-TIME:20240424T180000
DTSTAMP;VALUE=DATE-TIME:20260419T202050Z
UID:1dca00ec41e94aaa975ae93841d2099f@www.goiania.go.leg.br
CONTACT:VEREADOR LUCAS KITÃO
CREATED;VALUE=DATE-TIME:20240219T211304Z
LAST-MODIFIED;VALUE=DATE-TIME:20240219T211325Z
LOCATION:HALL DE ENTRADA DESTA CASA DE LEIS
URL:https://www.goiania.go.leg.br/sala-de-imprensa/eventos/realizacao-da-f
 eira-brecho-cabide-rosa
END:VEVENT
BEGIN:VTIMEZONE
TZID:Brazil/East
X-LIC-LOCATION:Brazil/East
BEGIN:STANDARD
DTSTART;VALUE=DATE-TIME:20240217T230000
TZNAME:BRT
TZOFFSETFROM:-0200
TZOFFSETTO:-0300
END:STANDARD
END:VTIMEZONE
END:VCALENDAR
