BEGIN:VCALENDAR
VERSION:2.0
PRODID:-//Plone.org//NONSGML plone.app.event//EN
X-WR-TIMEZONE:Brazil/East
BEGIN:VEVENT
SUMMARY:PROJETO CULTURAL DE FEIRAS E EVENTOS.
DTSTART;TZID=Brazil/East;VALUE=DATE-TIME:20240320T090000
DTEND;TZID=Brazil/East;VALUE=DATE-TIME:20240321T170000
DTSTAMP;VALUE=DATE-TIME:20260422T112810Z
UID:5521aef0f9bc4a678a2accaf485f7dbd@www.goiania.go.leg.br
CONTACT:SHIRLEI CORDEIRO
CREATED;VALUE=DATE-TIME:20240229T210745Z
LAST-MODIFIED;VALUE=DATE-TIME:20240229T210823Z
LOCATION:HALL DE ENTRADA DESTA CASA DE LEIS
URL:https://www.goiania.go.leg.br/sala-de-imprensa/eventos/projeto-cultura
 l-de-feiras-e-eventos-15
END:VEVENT
BEGIN:VTIMEZONE
TZID:Brazil/East
X-LIC-LOCATION:Brazil/East
BEGIN:STANDARD
DTSTART;VALUE=DATE-TIME:20240217T230000
TZNAME:BRT
TZOFFSETFROM:-0200
TZOFFSETTO:-0300
END:STANDARD
END:VTIMEZONE
END:VCALENDAR
