BEGIN:VCALENDAR
VERSION:2.0
PRODID:-//Plone.org//NONSGML plone.app.event//EN
X-WR-TIMEZONE:Brazil/East
BEGIN:VEVENT
SUMMARY:PROJETO CULTURAL DE FEIRAS E EVENTOS.
DTSTART;TZID=Brazil/East;VALUE=DATE-TIME:20191121T080000
DTEND;TZID=Brazil/East;VALUE=DATE-TIME:20191121T180000
DTSTAMP;VALUE=DATE-TIME:20260425T081417Z
UID:ef729537c93b4ee2aceec75b5ea0249b@www.goiania.go.leg.br
CONTACT:SHIRLEI CORDEIRO
CREATED;VALUE=DATE-TIME:20190213T104120Z
LAST-MODIFIED;VALUE=DATE-TIME:20190213T104133Z
LOCATION:HALL DE ENTRADA
URL:https://www.goiania.go.leg.br/sala-de-imprensa/eventos/projeto-cultura
 l-de-feiras-e-eventos-11
END:VEVENT
BEGIN:VTIMEZONE
TZID:Brazil/East
X-LIC-LOCATION:Brazil/East
BEGIN:DAYLIGHT
DTSTART;VALUE=DATE-TIME:20191020T010000
TZNAME:BRST
TZOFFSETFROM:-0300
TZOFFSETTO:-0200
END:DAYLIGHT
END:VTIMEZONE
END:VCALENDAR
