BEGIN:VCALENDAR
VERSION:2.0
PRODID:-//Plone.org//NONSGML plone.app.event//EN
X-WR-TIMEZONE:Brazil/East
BEGIN:VEVENT
SUMMARY:PROCEDIMENTO LICITATÓRIO 
DTSTART;TZID=Brazil/East;VALUE=DATE-TIME:20190731T093000
DTEND;TZID=Brazil/East;VALUE=DATE-TIME:20190731T120000
DTSTAMP;VALUE=DATE-TIME:20260423T085755Z
UID:866e8a33d2c34cbca327b3b6b3b36980@www.goiania.go.leg.br
CONTACT:DIRETOR DE COMPRAS JAILTON 
CREATED;VALUE=DATE-TIME:20190718T130537Z
LAST-MODIFIED;VALUE=DATE-TIME:20190718T130635Z
LOCATION:AUDITÓRIO CARLOS EURICO
URL:https://www.goiania.go.leg.br/sala-de-imprensa/eventos/procedimento-li
 citatorio
END:VEVENT
BEGIN:VTIMEZONE
TZID:Brazil/East
X-LIC-LOCATION:Brazil/East
BEGIN:STANDARD
DTSTART;VALUE=DATE-TIME:20190216T230000
TZNAME:BRT
TZOFFSETFROM:-0200
TZOFFSETTO:-0300
END:STANDARD
END:VTIMEZONE
END:VCALENDAR
