BEGIN:VCALENDAR
VERSION:2.0
PRODID:-//Plone.org//NONSGML plone.app.event//EN
X-WR-TIMEZONE:Brazil/East
BEGIN:VEVENT
SUMMARY:PRIMEIRA REUNIÃO ORDINÁRIA DA COMISSÃO DOS DIREITOS DA PESSOA C
 OM DEFICIÊNCIA.
DTSTART;TZID=Brazil/East;VALUE=DATE-TIME:20210429T080000
DTEND;TZID=Brazil/East;VALUE=DATE-TIME:20210429T090000
DTSTAMP;VALUE=DATE-TIME:20260419T105821Z
UID:d65f1c39c9464104ba11eed8cbf95a92@www.goiania.go.leg.br
CONTACT:VEREADOR WILLIAN VELOSO
CREATED;VALUE=DATE-TIME:20210422T121400Z
LAST-MODIFIED;VALUE=DATE-TIME:20210422T121417Z
LOCATION:SALA DE REUNIÃO DA PRESIDÊNCIA
URL:https://www.goiania.go.leg.br/sala-de-imprensa/eventos/primeira-reunia
 o-ordinaria-da-comissao-dos-direitos-da-pessoa-com-deficiencia
END:VEVENT
BEGIN:VTIMEZONE
TZID:Brazil/East
X-LIC-LOCATION:Brazil/East
BEGIN:STANDARD
DTSTART;VALUE=DATE-TIME:20210220T230000
TZNAME:BRT
TZOFFSETFROM:-0200
TZOFFSETTO:-0300
END:STANDARD
END:VTIMEZONE
END:VCALENDAR
