BEGIN:VCALENDAR
VERSION:2.0
PRODID:-//Plone.org//NONSGML plone.app.event//EN
X-WR-TIMEZONE:Brazil/East
BEGIN:VEVENT
SUMMARY:PREVENÇÃO À ACIDENTES DO TRABALHO\, DOENÇAS PROFISSIONAIS E DO
  TRABALHO E DIREITOS PREVIDENCIÁRIOS DE ACIDENTADOS.
DTSTART;TZID=Brazil/East;VALUE=DATE-TIME:20230428T100000
DTEND;TZID=Brazil/East;VALUE=DATE-TIME:20230428T110000
DTSTAMP;VALUE=DATE-TIME:20260423T074629Z
UID:f9f6678a19bc45a0bd43f41ea299ecea@www.goiania.go.leg.br
CONTACT:LUIZ EDUARDO ARAÚJO BRAGA
CREATED;VALUE=DATE-TIME:20230327T112057Z
LAST-MODIFIED;VALUE=DATE-TIME:20230410T160941Z
LOCATION:AUDITÓRIO CARLOS EURICO
URL:https://www.goiania.go.leg.br/sala-de-imprensa/eventos/prevencao-a-aci
 dentes-do-trabalho-doencas-profissionais-e-do-trabalho-e-direitos-previden
 ciarios-de-acidentados
END:VEVENT
BEGIN:VTIMEZONE
TZID:Brazil/East
X-LIC-LOCATION:Brazil/East
BEGIN:STANDARD
DTSTART;VALUE=DATE-TIME:20230225T230000
TZNAME:BRT
TZOFFSETFROM:-0200
TZOFFSETTO:-0300
END:STANDARD
END:VTIMEZONE
END:VCALENDAR
