BEGIN:VCALENDAR
VERSION:2.0
PRODID:-//Plone.org//NONSGML plone.app.event//EN
X-WR-TIMEZONE:Brazil/East
BEGIN:VEVENT
SUMMARY:PRESTAÇÃO DE CONTAS RELATIVA AO 3º QUADRIMESTRE DE 2020.
DTSTART;TZID=Brazil/East;VALUE=DATE-TIME:20210413T080000
DTEND;TZID=Brazil/East;VALUE=DATE-TIME:20210413T120000
DTSTAMP;VALUE=DATE-TIME:20260420T094001Z
UID:c7799651ad474438af1dce82b4617b2a@www.goiania.go.leg.br
CONTACT:VEREADOR CABO SENNA
CREATED;VALUE=DATE-TIME:20210405T103057Z
LAST-MODIFIED;VALUE=DATE-TIME:20210412T121748Z
LOCATION:PLENÁRIO TRAJANO GUIMARÃES
URL:https://www.goiania.go.leg.br/sala-de-imprensa/eventos/prestacao-de-co
 ntas-relativa-ao-3o-quadrimestre-de-2020
END:VEVENT
BEGIN:VTIMEZONE
TZID:Brazil/East
X-LIC-LOCATION:Brazil/East
BEGIN:STANDARD
DTSTART;VALUE=DATE-TIME:20210220T230000
TZNAME:BRT
TZOFFSETFROM:-0200
TZOFFSETTO:-0300
END:STANDARD
END:VTIMEZONE
END:VCALENDAR
