BEGIN:VCALENDAR
VERSION:2.0
PRODID:-//Plone.org//NONSGML plone.app.event//EN
X-WR-TIMEZONE:Brazil/East
BEGIN:VEVENT
SUMMARY:PRESTAÇÃO DE CONTAS DO PREFEITO SANDRO MABEL.
DTSTART;TZID=Brazil/East;VALUE=DATE-TIME:20250324T080000
DTEND;TZID=Brazil/East;VALUE=DATE-TIME:20250324T120000
DTSTAMP;VALUE=DATE-TIME:20260423T072826Z
UID:026427f81e4f453db57c2c5819489392@www.goiania.go.leg.br
CONTACT:COMISSÃO MISTA
CREATED;VALUE=DATE-TIME:20250312T123603Z
LAST-MODIFIED;VALUE=DATE-TIME:20250312T123614Z
LOCATION:PLENÁRIO TRAJANO GUIMARÃES
URL:https://www.goiania.go.leg.br/sala-de-imprensa/eventos/prestacao-de-co
 ntas-do-prefeito-sandro-mabel
END:VEVENT
BEGIN:VTIMEZONE
TZID:Brazil/East
X-LIC-LOCATION:Brazil/East
BEGIN:STANDARD
DTSTART;VALUE=DATE-TIME:20250215T230000
TZNAME:BRT
TZOFFSETFROM:-0200
TZOFFSETTO:-0300
END:STANDARD
END:VTIMEZONE
END:VCALENDAR
