BEGIN:VCALENDAR
VERSION:2.0
PRODID:-//Plone.org//NONSGML plone.app.event//EN
X-WR-TIMEZONE:Brazil/East
BEGIN:VEVENT
SUMMARY:PRESTAÇÃO DE CONTAS DO PREFEITO DE GOIÂNIA.
DTSTART;TZID=Brazil/East;VALUE=DATE-TIME:20220615T140000
DTEND;TZID=Brazil/East;VALUE=DATE-TIME:20220615T180000
DTSTAMP;VALUE=DATE-TIME:20260419T202050Z
UID:693feec495df41beb8a4d89d06ab4b93@www.goiania.go.leg.br
CONTACT:COMISSÃO  MISTA
CREATED;VALUE=DATE-TIME:20220526T214355Z
LAST-MODIFIED;VALUE=DATE-TIME:20220526T214410Z
LOCATION:PLENÁRIO TRAJANO GUIMARÃES
URL:https://www.goiania.go.leg.br/sala-de-imprensa/eventos/prestacao-de-co
 ntas-do-prefeito-de-goiania
END:VEVENT
BEGIN:VTIMEZONE
TZID:Brazil/East
X-LIC-LOCATION:Brazil/East
BEGIN:STANDARD
DTSTART;VALUE=DATE-TIME:20220219T230000
TZNAME:BRT
TZOFFSETFROM:-0200
TZOFFSETTO:-0300
END:STANDARD
END:VTIMEZONE
END:VCALENDAR
