BEGIN:VCALENDAR
VERSION:2.0
PRODID:-//Plone.org//NONSGML plone.app.event//EN
X-WR-TIMEZONE:Brazil/East
BEGIN:VEVENT
SUMMARY:PRESTAÇÃO DE CONTAS DO MANDATO.
DTSTART;TZID=Brazil/East;VALUE=DATE-TIME:20251222T190000
DTEND;TZID=Brazil/East;VALUE=DATE-TIME:20251222T220000
DTSTAMP;VALUE=DATE-TIME:20260422T141438Z
UID:f2ca8a2a1b43406ea7a4c0a6309d6900@www.goiania.go.leg.br
CONTACT:VEREADOR MAJOR VITOR HUGO
CREATED;VALUE=DATE-TIME:20251126T112500Z
LAST-MODIFIED;VALUE=DATE-TIME:20251126T114837Z
LOCATION:AUDITORIO JAIME CÂMARA
URL:https://www.goiania.go.leg.br/sala-de-imprensa/eventos/prestacao-de-co
 ntas-do-mandado
END:VEVENT
BEGIN:VTIMEZONE
TZID:Brazil/East
X-LIC-LOCATION:Brazil/East
BEGIN:DAYLIGHT
DTSTART;VALUE=DATE-TIME:20251019T010000
TZNAME:BRST
TZOFFSETFROM:-0300
TZOFFSETTO:-0200
END:DAYLIGHT
END:VTIMEZONE
END:VCALENDAR
